BEGIN:VCALENDAR
VERSION:2.0
PRODID:-//Schutterij Sint Jan - ECPv6.15.20//NONSGML v1.0//EN
CALSCALE:GREGORIAN
METHOD:PUBLISH
X-ORIGINAL-URL:https://schutterijstjannieuwstadt.com
X-WR-CALDESC:Evenementen voor Schutterij Sint Jan
REFRESH-INTERVAL;VALUE=DURATION:PT1H
X-Robots-Tag:noindex
X-PUBLISHED-TTL:PT1H
BEGIN:VTIMEZONE
TZID:UTC
BEGIN:STANDARD
TZOFFSETFROM:+0000
TZOFFSETTO:+0000
TZNAME:UTC
DTSTART:20250101T000000
END:STANDARD
END:VTIMEZONE
BEGIN:VEVENT
DTSTART;TZID=UTC:20260322T140000
DTEND;TZID=UTC:20260322T170000
DTSTAMP:20260420T052413
CREATED:20260321T122707Z
LAST-MODIFIED:20260321T122707Z
UID:1372-1774188000-1774198800@schutterijstjannieuwstadt.com
SUMMARY:Feestmiddag - Vogelschieten binnen
DESCRIPTION:
URL:https://schutterijstjannieuwstadt.com/event/feestmiddag-vogelschieten-binnen/
LOCATION:Schuttersweide\, Sluisbeekweg\, Nieuwstadt\, Netherlands
END:VEVENT
BEGIN:VEVENT
DTSTART;TZID=UTC:20260328T173000
DTEND;TZID=UTC:20260328T210000
DTSTAMP:20260420T052413
CREATED:20260321T122804Z
LAST-MODIFIED:20260321T122804Z
UID:1376-1774719000-1774731600@schutterijstjannieuwstadt.com
SUMMARY:Serenade Hilda & Jo Simon
DESCRIPTION:
URL:https://schutterijstjannieuwstadt.com/event/serenade-hilda-jo-simon/
END:VEVENT
BEGIN:VEVENT
DTSTART;TZID=UTC:20260329T180000
DTEND;TZID=UTC:20260329T200000
DTSTAMP:20260420T052413
CREATED:20260321T122831Z
LAST-MODIFIED:20260321T122831Z
UID:1378-1774807200-1774814400@schutterijstjannieuwstadt.com
SUMMARY:Jaarvergadering
DESCRIPTION:
URL:https://schutterijstjannieuwstadt.com/event/jaarvergadering/
LOCATION:Gemeenschapshuis
END:VEVENT
END:VCALENDAR